BEGIN:VCALENDAR
VERSION:2.0
PRODID:-//Konkle Memorial Library - ECPv6.8.3//NONSGML v1.0//EN
CALSCALE:GREGORIAN
METHOD:PUBLISH
X-ORIGINAL-URL:https://kplpa.org
X-WR-CALDESC:Events for Konkle Memorial Library
REFRESH-INTERVAL;VALUE=DURATION:PT1H
X-Robots-Tag:noindex
X-PUBLISHED-TTL:PT1H
BEGIN:VTIMEZONE
TZID:America/New_York
BEGIN:DAYLIGHT
TZOFFSETFROM:-0500
TZOFFSETTO:-0400
TZNAME:EDT
DTSTART:20260308T070000
END:DAYLIGHT
BEGIN:STANDARD
TZOFFSETFROM:-0400
TZOFFSETTO:-0500
TZNAME:EST
DTSTART:20261101T060000
END:STANDARD
END:VTIMEZONE
BEGIN:VEVENT
DTSTART;TZID=America/New_York:20260804T123000
DTEND;TZID=America/New_York:20260804T133000
DTSTAMP:20260423T155918
CREATED:20260128T181012Z
LAST-MODIFIED:20260128T182719Z
UID:10001719-1785846600-1785850200@kplpa.org
SUMMARY:Adult Game Hour
DESCRIPTION:Please note Adult Game Hour is moving to Tuesdays in February. Forget scrolling your phone. It’s time for Adult Game Hour at Konkle Library. Bring some friends along for some friendly competition. We provide the games or bring one of your favorites along.
URL:https://kplpa.org/event/adult-game-hour-2/2026-08-04/
LOCATION:PA
END:VEVENT
BEGIN:VEVENT
DTSTART;TZID=America/New_York:20260810T123000
DTEND;TZID=America/New_York:20260810T133000
DTSTAMP:20260423T155918
CREATED:20260128T181652Z
LAST-MODIFIED:20260128T182520Z
UID:10001692-1786365000-1786368600@kplpa.org
SUMMARY:Adult Coloring Hour
DESCRIPTION:Because coloring isn’t just for kids — it’s for anyone who needs a little peace and joy.
URL:https://kplpa.org/event/adult-coloring-hour-3/2026-08-10/
LOCATION:PA
END:VEVENT
BEGIN:VEVENT
DTSTART;TZID=America/New_York:20260818T123000
DTEND;TZID=America/New_York:20260818T133000
DTSTAMP:20260423T155918
CREATED:20260128T181012Z
LAST-MODIFIED:20260128T182719Z
UID:10001720-1787056200-1787059800@kplpa.org
SUMMARY:Adult Game Hour
DESCRIPTION:Please note Adult Game Hour is moving to Tuesdays in February. Forget scrolling your phone. It’s time for Adult Game Hour at Konkle Library. Bring some friends along for some friendly competition. We provide the games or bring one of your favorites along.
URL:https://kplpa.org/event/adult-game-hour-2/2026-08-18/
LOCATION:PA
END:VEVENT
BEGIN:VEVENT
DTSTART;TZID=America/New_York:20260824T123000
DTEND;TZID=America/New_York:20260824T133000
DTSTAMP:20260423T155918
CREATED:20260128T181652Z
LAST-MODIFIED:20260128T182520Z
UID:10001693-1787574600-1787578200@kplpa.org
SUMMARY:Adult Coloring Hour
DESCRIPTION:Because coloring isn’t just for kids — it’s for anyone who needs a little peace and joy.
URL:https://kplpa.org/event/adult-coloring-hour-3/2026-08-24/
LOCATION:PA
END:VEVENT
END:VCALENDAR