BEGIN:VCALENDAR
VERSION:2.0
PRODID:-//Konkle Memorial Library - ECPv6.8.3//NONSGML v1.0//EN
CALSCALE:GREGORIAN
METHOD:PUBLISH
X-WR-CALNAME:Konkle Memorial Library
X-ORIGINAL-URL:https://kplpa.org
X-WR-CALDESC:Events for Konkle Memorial Library
REFRESH-INTERVAL;VALUE=DURATION:PT1H
X-Robots-Tag:noindex
X-PUBLISHED-TTL:PT1H
BEGIN:VTIMEZONE
TZID:America/New_York
BEGIN:DAYLIGHT
TZOFFSETFROM:-0500
TZOFFSETTO:-0400
TZNAME:EDT
DTSTART:20260308T070000
END:DAYLIGHT
BEGIN:STANDARD
TZOFFSETFROM:-0400
TZOFFSETTO:-0500
TZNAME:EST
DTSTART:20261101T060000
END:STANDARD
END:VTIMEZONE
BEGIN:VEVENT
DTSTART;TZID=America/New_York:20260601T123000
DTEND;TZID=America/New_York:20260601T133000
DTSTAMP:20260423T125138
CREATED:20260128T181652Z
LAST-MODIFIED:20260128T182520Z
UID:10001687-1780317000-1780320600@kplpa.org
SUMMARY:Adult Coloring Hour
DESCRIPTION:Because coloring isn’t just for kids — it’s for anyone who needs a little peace and joy.
URL:https://kplpa.org/event/adult-coloring-hour-3/2026-06-01/
LOCATION:PA
END:VEVENT
BEGIN:VEVENT
DTSTART;TZID=America/New_York:20260609T123000
DTEND;TZID=America/New_York:20260609T133000
DTSTAMP:20260423T125138
CREATED:20260128T181012Z
LAST-MODIFIED:20260128T182719Z
UID:10001715-1781008200-1781011800@kplpa.org
SUMMARY:Adult Game Hour
DESCRIPTION:Please note Adult Game Hour is moving to Tuesdays in February. Forget scrolling your phone. It’s time for Adult Game Hour at Konkle Library. Bring some friends along for some friendly competition. We provide the games or bring one of your favorites along.
URL:https://kplpa.org/event/adult-game-hour-2/2026-06-09/
LOCATION:PA
END:VEVENT
BEGIN:VEVENT
DTSTART;TZID=America/New_York:20260615T123000
DTEND;TZID=America/New_York:20260615T133000
DTSTAMP:20260423T125138
CREATED:20260128T181652Z
LAST-MODIFIED:20260128T182520Z
UID:10001688-1781526600-1781530200@kplpa.org
SUMMARY:Adult Coloring Hour
DESCRIPTION:Because coloring isn’t just for kids — it’s for anyone who needs a little peace and joy.
URL:https://kplpa.org/event/adult-coloring-hour-3/2026-06-15/
LOCATION:PA
END:VEVENT
BEGIN:VEVENT
DTSTART;TZID=America/New_York:20260623T123000
DTEND;TZID=America/New_York:20260623T133000
DTSTAMP:20260423T125138
CREATED:20260128T181012Z
LAST-MODIFIED:20260128T182719Z
UID:10001716-1782217800-1782221400@kplpa.org
SUMMARY:Adult Game Hour
DESCRIPTION:Please note Adult Game Hour is moving to Tuesdays in February. Forget scrolling your phone. It’s time for Adult Game Hour at Konkle Library. Bring some friends along for some friendly competition. We provide the games or bring one of your favorites along.
URL:https://kplpa.org/event/adult-game-hour-2/2026-06-23/
LOCATION:PA
END:VEVENT
BEGIN:VEVENT
DTSTART;TZID=America/New_York:20260629T123000
DTEND;TZID=America/New_York:20260629T133000
DTSTAMP:20260423T125138
CREATED:20260128T181652Z
LAST-MODIFIED:20260128T182520Z
UID:10001689-1782736200-1782739800@kplpa.org
SUMMARY:Adult Coloring Hour
DESCRIPTION:Because coloring isn’t just for kids — it’s for anyone who needs a little peace and joy.
URL:https://kplpa.org/event/adult-coloring-hour-3/2026-06-29/
LOCATION:PA
END:VEVENT
END:VCALENDAR