BEGIN:VCALENDAR
VERSION:2.0
PRODID:-//Konkle Memorial Library - ECPv6.8.3//NONSGML v1.0//EN
CALSCALE:GREGORIAN
METHOD:PUBLISH
X-ORIGINAL-URL:https://kplpa.org
X-WR-CALDESC:Events for Konkle Memorial Library
REFRESH-INTERVAL;VALUE=DURATION:PT1H
X-Robots-Tag:noindex
X-PUBLISHED-TTL:PT1H
BEGIN:VTIMEZONE
TZID:America/New_York
BEGIN:DAYLIGHT
TZOFFSETFROM:-0500
TZOFFSETTO:-0400
TZNAME:EDT
DTSTART:20260308T070000
END:DAYLIGHT
BEGIN:STANDARD
TZOFFSETFROM:-0400
TZOFFSETTO:-0500
TZNAME:EST
DTSTART:20261101T060000
END:STANDARD
END:VTIMEZONE
BEGIN:VEVENT
DTSTART;TZID=America/New_York:20260202T130000
DTEND;TZID=America/New_York:20260202T140000
DTSTAMP:20260422T135315
CREATED:20251212T201641Z
LAST-MODIFIED:20251212T201641Z
UID:10001384-1770037200-1770040800@kplpa.org
SUMMARY:Alzheimer's and Dementia Education Series
DESCRIPTION:W.B. Konkle library will be offering a 3-part educational series on Alzheimer’s and Dementia starting Monday\, January 5\, 2026. The first workshop will be: the 10 warning signs of Alzheimer’s. Registration is not required but recommended. Please call the library the Friday before at 570-368-1840.
URL:https://kplpa.org/event/alzheimers-and-dementia-education-series/2026-02-02/
LOCATION:PA
END:VEVENT
BEGIN:VEVENT
DTSTART;TZID=America/New_York:20260203T103000
DTEND;TZID=America/New_York:20260203T113000
DTSTAMP:20260422T135315
CREATED:20260102T201423Z
LAST-MODIFIED:20260102T202902Z
UID:10001399-1770114600-1770118200@kplpa.org
SUMMARY:Toddler Time
DESCRIPTION:Our next Toddler Time will start Tuesday\, January 20th OR Wednesday\, January 21\, 2026. The program starts at 10:30 am. The age group is 1 1/2 to 3 years old. Please call the library at 570-368-1840 to register your child today.
URL:https://kplpa.org/event/toddler-time-7/2026-02-03/
LOCATION:PA
END:VEVENT
BEGIN:VEVENT
DTSTART;TZID=America/New_York:20260203T123000
DTEND;TZID=America/New_York:20260203T133000
DTSTAMP:20260422T135315
CREATED:20260128T181012Z
LAST-MODIFIED:20260128T182719Z
UID:10001678-1770121800-1770125400@kplpa.org
SUMMARY:Adult Game Hour
DESCRIPTION:Please note Adult Game Hour is moving to Tuesdays in February. Forget scrolling your phone. It’s time for Adult Game Hour at Konkle Library. Bring some friends along for some friendly competition. We provide the games or bring one of your favorites along.
URL:https://kplpa.org/event/adult-game-hour-2/2026-02-03/
LOCATION:PA
END:VEVENT
BEGIN:VEVENT
DTSTART;TZID=America/New_York:20260204T103000
DTEND;TZID=America/New_York:20260204T113000
DTSTAMP:20260422T135315
CREATED:20260102T202620Z
LAST-MODIFIED:20260102T202620Z
UID:10001658-1770201000-1770204600@kplpa.org
SUMMARY:Toddler Time
DESCRIPTION:The next Toddler Time will be January 20th OR January 21st\, 2026. Time is at 10:30 am. Age group is 1/1/2 to 3 years old. Please call the library to register for one of the sessions at 570-368-1840
URL:https://kplpa.org/event/toddler-time-8/2026-02-04/
LOCATION:PA
END:VEVENT
BEGIN:VEVENT
DTSTART;TZID=America/New_York:20260205T103000
DTEND;TZID=America/New_York:20260205T113000
DTSTAMP:20260422T135315
CREATED:20260102T203734Z
LAST-MODIFIED:20260102T203734Z
UID:10001665-1770287400-1770291000@kplpa.org
SUMMARY:Pre-School Story and Craft Hour
DESCRIPTION:The next Pre-School Story and Craft Hour will be either Thursday\, January 22nd OR Friday’s January 23\, 2026. The ages are 3 to 6 years old. The time is 10:30 am. If interested\, please call to register at 570-368-1840.
URL:https://kplpa.org/event/pre-school-story-and-craft-hour-5/2026-02-05/
LOCATION:PA
END:VEVENT
BEGIN:VEVENT
DTSTART;TZID=America/New_York:20260206T103000
DTEND;TZID=America/New_York:20260206T113000
DTSTAMP:20260422T135315
CREATED:20260102T204416Z
LAST-MODIFIED:20260102T204416Z
UID:10001672-1770373800-1770377400@kplpa.org
SUMMARY:Pre-School Story and Craft Hour
DESCRIPTION:The next Pre-School Story & Craft Hour is either Thursday’s\, January 22 OR Friday’s January 23\, 2026. The time is 10:30 am. Ages are 3 to 6 years old. To register please call 570-368-1840.
URL:https://kplpa.org/event/pre-school-story-and-craft-hour-6/2026-02-06/
LOCATION:PA
END:VEVENT
BEGIN:VEVENT
DTSTART;TZID=America/New_York:20260209T123000
DTEND;TZID=America/New_York:20260209T133000
DTSTAMP:20260422T135315
CREATED:20260128T181652Z
LAST-MODIFIED:20260128T182520Z
UID:10001679-1770640200-1770643800@kplpa.org
SUMMARY:Adult Coloring Hour
DESCRIPTION:Because coloring isn’t just for kids — it’s for anyone who needs a little peace and joy.
URL:https://kplpa.org/event/adult-coloring-hour-3/2026-02-09/
LOCATION:PA
END:VEVENT
BEGIN:VEVENT
DTSTART;TZID=America/New_York:20260210T103000
DTEND;TZID=America/New_York:20260210T113000
DTSTAMP:20260422T135315
CREATED:20260102T201423Z
LAST-MODIFIED:20260102T202902Z
UID:10001400-1770719400-1770723000@kplpa.org
SUMMARY:Toddler Time
DESCRIPTION:Our next Toddler Time will start Tuesday\, January 20th OR Wednesday\, January 21\, 2026. The program starts at 10:30 am. The age group is 1 1/2 to 3 years old. Please call the library at 570-368-1840 to register your child today.
URL:https://kplpa.org/event/toddler-time-7/2026-02-10/
LOCATION:PA
END:VEVENT
BEGIN:VEVENT
DTSTART;TZID=America/New_York:20260211T103000
DTEND;TZID=America/New_York:20260211T113000
DTSTAMP:20260422T135315
CREATED:20260102T202620Z
LAST-MODIFIED:20260102T202620Z
UID:10001659-1770805800-1770809400@kplpa.org
SUMMARY:Toddler Time
DESCRIPTION:The next Toddler Time will be January 20th OR January 21st\, 2026. Time is at 10:30 am. Age group is 1/1/2 to 3 years old. Please call the library to register for one of the sessions at 570-368-1840
URL:https://kplpa.org/event/toddler-time-8/2026-02-11/
LOCATION:PA
END:VEVENT
BEGIN:VEVENT
DTSTART;TZID=America/New_York:20260212T103000
DTEND;TZID=America/New_York:20260212T113000
DTSTAMP:20260422T135315
CREATED:20260102T203734Z
LAST-MODIFIED:20260102T203734Z
UID:10001666-1770892200-1770895800@kplpa.org
SUMMARY:Pre-School Story and Craft Hour
DESCRIPTION:The next Pre-School Story and Craft Hour will be either Thursday\, January 22nd OR Friday’s January 23\, 2026. The ages are 3 to 6 years old. The time is 10:30 am. If interested\, please call to register at 570-368-1840.
URL:https://kplpa.org/event/pre-school-story-and-craft-hour-5/2026-02-12/
LOCATION:PA
END:VEVENT
BEGIN:VEVENT
DTSTART;TZID=America/New_York:20260212T170000
DTEND;TZID=America/New_York:20260212T180000
DTSTAMP:20260422T135315
CREATED:20260130T191424Z
LAST-MODIFIED:20260130T192700Z
UID:10001734-1770915600-1770919200@kplpa.org
SUMMARY:Friendship Bracelet
DESCRIPTION:🌈 Color the World with Kindness 🌈\nEvery bead tells a story\, and every bracelet shares a smile.\nBring your kids to Konkle Library for a fun afternoon of crafting friendship bracelets — one to keep\, one to give to the YWCA North Central PA’s Wise Options Program to brighten someone’s day and let’s show that even the smallest hands can make the biggest difference. 💖 Registration is required\, so please call the library today at 570-368-1840.\n 
URL:https://kplpa.org/event/friendship-bracelet/
LOCATION:PA
END:VEVENT
BEGIN:VEVENT
DTSTART;TZID=America/New_York:20260213T103000
DTEND;TZID=America/New_York:20260213T113000
DTSTAMP:20260422T135315
CREATED:20260102T204416Z
LAST-MODIFIED:20260102T204416Z
UID:10001673-1770978600-1770982200@kplpa.org
SUMMARY:Pre-School Story and Craft Hour
DESCRIPTION:The next Pre-School Story & Craft Hour is either Thursday’s\, January 22 OR Friday’s January 23\, 2026. The time is 10:30 am. Ages are 3 to 6 years old. To register please call 570-368-1840.
URL:https://kplpa.org/event/pre-school-story-and-craft-hour-6/2026-02-13/
LOCATION:PA
END:VEVENT
BEGIN:VEVENT
DTSTART;TZID=America/New_York:20260213T113000
DTEND;TZID=America/New_York:20260213T123000
DTSTAMP:20260422T135315
CREATED:20260130T194127Z
LAST-MODIFIED:20260130T194151Z
UID:10002101-1770982200-1770985800@kplpa.org
SUMMARY:Friendship Bracelets
DESCRIPTION:🌈 Color the World with Kindness 🌈\nEvery bead tells a story\, and every bracelet shares a smile. Bring your kids to Konkle Library for a fun morning of crafting friendship bracelets — one to keep\, one to donate to the YWCA North Central PA’s Wise Program. Let’s show that even the smallest hands can make the biggest difference. 💖 Please call to reserve your spot today at 570-368-1840.
URL:https://kplpa.org/event/friendship-bracelets-2/
LOCATION:PA
END:VEVENT
BEGIN:VEVENT
DTSTART;TZID=America/New_York:20260214T090000
DTEND;TZID=America/New_York:20260214T160000
DTSTAMP:20260422T135315
CREATED:20260123T222607Z
LAST-MODIFIED:20260123T222607Z
UID:10001677-1771059600-1771084800@kplpa.org
SUMMARY:Cupid's "Sweet Steals" Book Sale
DESCRIPTION:Friends of the Library are excited to announce that the next book sale will be February 14\, 2026\, from 9:00 am to 4:00 pm. Bring your Valentine along and pick up some sweet deals.
URL:https://kplpa.org/event/cupids-sweet-steals-book-sale/
LOCATION:PA
END:VEVENT
BEGIN:VEVENT
DTSTART;TZID=America/New_York:20260217T103000
DTEND;TZID=America/New_York:20260217T113000
DTSTAMP:20260422T135315
CREATED:20260102T201423Z
LAST-MODIFIED:20260102T202902Z
UID:10001401-1771324200-1771327800@kplpa.org
SUMMARY:Toddler Time
DESCRIPTION:Our next Toddler Time will start Tuesday\, January 20th OR Wednesday\, January 21\, 2026. The program starts at 10:30 am. The age group is 1 1/2 to 3 years old. Please call the library at 570-368-1840 to register your child today.
URL:https://kplpa.org/event/toddler-time-7/2026-02-17/
LOCATION:PA
END:VEVENT
BEGIN:VEVENT
DTSTART;TZID=America/New_York:20260217T123000
DTEND;TZID=America/New_York:20260217T133000
DTSTAMP:20260422T135315
CREATED:20260128T181012Z
LAST-MODIFIED:20260128T182719Z
UID:10001707-1771331400-1771335000@kplpa.org
SUMMARY:Adult Game Hour
DESCRIPTION:Please note Adult Game Hour is moving to Tuesdays in February. Forget scrolling your phone. It’s time for Adult Game Hour at Konkle Library. Bring some friends along for some friendly competition. We provide the games or bring one of your favorites along.
URL:https://kplpa.org/event/adult-game-hour-2/2026-02-17/
LOCATION:PA
END:VEVENT
BEGIN:VEVENT
DTSTART;TZID=America/New_York:20260218T103000
DTEND;TZID=America/New_York:20260218T113000
DTSTAMP:20260422T135315
CREATED:20260102T202620Z
LAST-MODIFIED:20260102T202620Z
UID:10001660-1771410600-1771414200@kplpa.org
SUMMARY:Toddler Time
DESCRIPTION:The next Toddler Time will be January 20th OR January 21st\, 2026. Time is at 10:30 am. Age group is 1/1/2 to 3 years old. Please call the library to register for one of the sessions at 570-368-1840
URL:https://kplpa.org/event/toddler-time-8/2026-02-18/
LOCATION:PA
END:VEVENT
BEGIN:VEVENT
DTSTART;TZID=America/New_York:20260219T103000
DTEND;TZID=America/New_York:20260219T113000
DTSTAMP:20260422T135315
CREATED:20260102T203734Z
LAST-MODIFIED:20260102T203734Z
UID:10001667-1771497000-1771500600@kplpa.org
SUMMARY:Pre-School Story and Craft Hour
DESCRIPTION:The next Pre-School Story and Craft Hour will be either Thursday\, January 22nd OR Friday’s January 23\, 2026. The ages are 3 to 6 years old. The time is 10:30 am. If interested\, please call to register at 570-368-1840.
URL:https://kplpa.org/event/pre-school-story-and-craft-hour-5/2026-02-19/
LOCATION:PA
END:VEVENT
BEGIN:VEVENT
DTSTART;TZID=America/New_York:20260219T170000
DTEND;TZID=America/New_York:20260219T180000
DTSTAMP:20260422T135315
CREATED:20260130T201019Z
LAST-MODIFIED:20260130T201019Z
UID:10002102-1771520400-1771524000@kplpa.org
SUMMARY:Teen's Friendship Bracelets
DESCRIPTION:Calling all Teens to join us to create your own Friendship Bracelet. Here’s the best part – we’re inviting everyone to make one extra bracelet to donate to someone in need at the YWCA North Central PA’s Wise Options Program. Your thoughtfulness can brighten someone’s day and remind them they’re not alone. Please call to reserve your seat today at 570-368-1840.
URL:https://kplpa.org/event/teens-friendship-bracelets/
LOCATION:PA
END:VEVENT
BEGIN:VEVENT
DTSTART;TZID=America/New_York:20260220T103000
DTEND;TZID=America/New_York:20260220T113000
DTSTAMP:20260422T135315
CREATED:20260102T204416Z
LAST-MODIFIED:20260102T204416Z
UID:10001674-1771583400-1771587000@kplpa.org
SUMMARY:Pre-School Story and Craft Hour
DESCRIPTION:The next Pre-School Story & Craft Hour is either Thursday’s\, January 22 OR Friday’s January 23\, 2026. The time is 10:30 am. Ages are 3 to 6 years old. To register please call 570-368-1840.
URL:https://kplpa.org/event/pre-school-story-and-craft-hour-6/2026-02-20/
LOCATION:PA
END:VEVENT
BEGIN:VEVENT
DTSTART;TZID=America/New_York:20260220T113000
DTEND;TZID=America/New_York:20260220T123000
DTSTAMP:20260422T135315
CREATED:20260130T201226Z
LAST-MODIFIED:20260130T201226Z
UID:10002103-1771587000-1771590600@kplpa.org
SUMMARY:Teen Friendship Bracelets
DESCRIPTION:Calling all Teens to join us to create your own Friendship Bracelet. Here’s the best part – we’re inviting everyone to make one extra bracelet to donate to someone in need at the YWCA North Central PA’s Wise Options Program. Your thoughtfulness can brighten someone’s day and remind them they’re not alone. Please call to reserve your seat today at 570-368-1840.
URL:https://kplpa.org/event/teen-friendship-bracelets/
LOCATION:PA
END:VEVENT
BEGIN:VEVENT
DTSTART;TZID=America/New_York:20260223T123000
DTEND;TZID=America/New_York:20260223T133000
DTSTAMP:20260422T135315
CREATED:20260128T181652Z
LAST-MODIFIED:20260128T182520Z
UID:10001680-1771849800-1771853400@kplpa.org
SUMMARY:Adult Coloring Hour
DESCRIPTION:Because coloring isn’t just for kids — it’s for anyone who needs a little peace and joy.
URL:https://kplpa.org/event/adult-coloring-hour-3/2026-02-23/
LOCATION:PA
END:VEVENT
BEGIN:VEVENT
DTSTART;TZID=America/New_York:20260224T103000
DTEND;TZID=America/New_York:20260224T113000
DTSTAMP:20260422T135315
CREATED:20260102T201423Z
LAST-MODIFIED:20260102T202902Z
UID:10001402-1771929000-1771932600@kplpa.org
SUMMARY:Toddler Time
DESCRIPTION:Our next Toddler Time will start Tuesday\, January 20th OR Wednesday\, January 21\, 2026. The program starts at 10:30 am. The age group is 1 1/2 to 3 years old. Please call the library at 570-368-1840 to register your child today.
URL:https://kplpa.org/event/toddler-time-7/2026-02-24/
LOCATION:PA
END:VEVENT
BEGIN:VEVENT
DTSTART;TZID=America/New_York:20260224T170000
DTEND;TZID=America/New_York:20260224T180000
DTSTAMP:20260422T135315
CREATED:20260130T204844Z
LAST-MODIFIED:20260130T204844Z
UID:10002104-1771952400-1771956000@kplpa.org
SUMMARY:February Fantasy & Fluff Adult Book Club
DESCRIPTION:📚 Join Our Adult Book Club! 📚 \n\nLooking for great reads\, lively conversation\, and a welcoming community? Our Adult Book Club is the perfect place to connect with fellow book lovers and share your thoughts over a good story. \n This Month’s Pick: Peach Tea Smash by Laura Childs \n\nWhether you’ve read the whole book or just a few chapters\, you’re welcome to join in! We keep it friendly\, fun\, and full of fresh perspectives. Call today at 570-368-1840 to register.
URL:https://kplpa.org/event/february-fantasy-fluff-adult-book-club/
LOCATION:PA
END:VEVENT
BEGIN:VEVENT
DTSTART;TZID=America/New_York:20260225T103000
DTEND;TZID=America/New_York:20260225T113000
DTSTAMP:20260422T135315
CREATED:20260102T202620Z
LAST-MODIFIED:20260102T202620Z
UID:10001661-1772015400-1772019000@kplpa.org
SUMMARY:Toddler Time
DESCRIPTION:The next Toddler Time will be January 20th OR January 21st\, 2026. Time is at 10:30 am. Age group is 1/1/2 to 3 years old. Please call the library to register for one of the sessions at 570-368-1840
URL:https://kplpa.org/event/toddler-time-8/2026-02-25/
LOCATION:PA
END:VEVENT
BEGIN:VEVENT
DTSTART;TZID=America/New_York:20260226T103000
DTEND;TZID=America/New_York:20260226T113000
DTSTAMP:20260422T135315
CREATED:20260102T203734Z
LAST-MODIFIED:20260102T203734Z
UID:10001668-1772101800-1772105400@kplpa.org
SUMMARY:Pre-School Story and Craft Hour
DESCRIPTION:The next Pre-School Story and Craft Hour will be either Thursday\, January 22nd OR Friday’s January 23\, 2026. The ages are 3 to 6 years old. The time is 10:30 am. If interested\, please call to register at 570-368-1840.
URL:https://kplpa.org/event/pre-school-story-and-craft-hour-5/2026-02-26/
LOCATION:PA
END:VEVENT
BEGIN:VEVENT
DTSTART;TZID=America/New_York:20260227T103000
DTEND;TZID=America/New_York:20260227T113000
DTSTAMP:20260422T135315
CREATED:20260102T204416Z
LAST-MODIFIED:20260102T204416Z
UID:10001675-1772188200-1772191800@kplpa.org
SUMMARY:Pre-School Story and Craft Hour
DESCRIPTION:The next Pre-School Story & Craft Hour is either Thursday’s\, January 22 OR Friday’s January 23\, 2026. The time is 10:30 am. Ages are 3 to 6 years old. To register please call 570-368-1840.
URL:https://kplpa.org/event/pre-school-story-and-craft-hour-6/2026-02-27/
LOCATION:PA
END:VEVENT
END:VCALENDAR