BEGIN:VCALENDAR
VERSION:2.0
PRODID:-//Konkle Memorial Library - ECPv6.8.3//NONSGML v1.0//EN
CALSCALE:GREGORIAN
METHOD:PUBLISH
X-WR-CALNAME:Konkle Memorial Library
X-ORIGINAL-URL:https://kplpa.org
X-WR-CALDESC:Events for Konkle Memorial Library
REFRESH-INTERVAL;VALUE=DURATION:PT1H
X-Robots-Tag:noindex
X-PUBLISHED-TTL:PT1H
BEGIN:VTIMEZONE
TZID:America/New_York
BEGIN:DAYLIGHT
TZOFFSETFROM:-0500
TZOFFSETTO:-0400
TZNAME:EDT
DTSTART:20250309T070000
END:DAYLIGHT
BEGIN:STANDARD
TZOFFSETFROM:-0400
TZOFFSETTO:-0500
TZNAME:EST
DTSTART:20251102T060000
END:STANDARD
END:VTIMEZONE
BEGIN:VEVENT
DTSTART;TZID=America/New_York:20250304T103000
DTEND;TZID=America/New_York:20250304T113000
DTSTAMP:20260419T133636
CREATED:20250103T185017Z
LAST-MODIFIED:20250103T185017Z
UID:10000342-1741084200-1741087800@kplpa.org
SUMMARY:Toddler Time
DESCRIPTION:
URL:https://kplpa.org/event/toddler-time-5/2025-03-04/
LOCATION:PA
END:VEVENT
BEGIN:VEVENT
DTSTART;TZID=America/New_York:20250305T103000
DTEND;TZID=America/New_York:20250305T113000
DTSTAMP:20260419T133636
CREATED:20250103T185058Z
LAST-MODIFIED:20250103T185058Z
UID:10000358-1741170600-1741174200@kplpa.org
SUMMARY:Toddler Time
DESCRIPTION:
URL:https://kplpa.org/event/toddler-time-6/2025-03-05/
LOCATION:PA
END:VEVENT
BEGIN:VEVENT
DTSTART;TZID=America/New_York:20250306T103000
DTEND;TZID=America/New_York:20250306T113000
DTSTAMP:20260419T133636
CREATED:20250103T184226Z
LAST-MODIFIED:20250103T184328Z
UID:10000326-1741257000-1741260600@kplpa.org
SUMMARY:Pre-School Story and Craft Hour
DESCRIPTION:
URL:https://kplpa.org/event/pre-school-story-and-craft-hour-3/2025-03-06/
LOCATION:PA
END:VEVENT
BEGIN:VEVENT
DTSTART;TZID=America/New_York:20250307T103000
DTEND;TZID=America/New_York:20250307T113000
DTSTAMP:20260419T133636
CREATED:20250103T184449Z
LAST-MODIFIED:20250103T184449Z
UID:10000334-1741343400-1741347000@kplpa.org
SUMMARY:Pre-School Story and Craft Hour
DESCRIPTION:
URL:https://kplpa.org/event/pre-school-story-and-craft-hour-4/2025-03-07/
LOCATION:PA
END:VEVENT
BEGIN:VEVENT
DTSTART;TZID=America/New_York:20250311T103000
DTEND;TZID=America/New_York:20250311T113000
DTSTAMP:20260419T133636
CREATED:20250103T185017Z
LAST-MODIFIED:20250103T185017Z
UID:10000343-1741689000-1741692600@kplpa.org
SUMMARY:Toddler Time
DESCRIPTION:
URL:https://kplpa.org/event/toddler-time-5/2025-03-11/
LOCATION:PA
END:VEVENT
BEGIN:VEVENT
DTSTART;TZID=America/New_York:20250312T103000
DTEND;TZID=America/New_York:20250312T113000
DTSTAMP:20260419T133636
CREATED:20250103T185058Z
LAST-MODIFIED:20250103T185058Z
UID:10000359-1741775400-1741779000@kplpa.org
SUMMARY:Toddler Time
DESCRIPTION:
URL:https://kplpa.org/event/toddler-time-6/2025-03-12/
LOCATION:PA
END:VEVENT
BEGIN:VEVENT
DTSTART;TZID=America/New_York:20250313T103000
DTEND;TZID=America/New_York:20250313T113000
DTSTAMP:20260419T133636
CREATED:20250103T184226Z
LAST-MODIFIED:20250103T184328Z
UID:10000327-1741861800-1741865400@kplpa.org
SUMMARY:Pre-School Story and Craft Hour
DESCRIPTION:
URL:https://kplpa.org/event/pre-school-story-and-craft-hour-3/2025-03-13/
LOCATION:PA
END:VEVENT
BEGIN:VEVENT
DTSTART;TZID=America/New_York:20250314T103000
DTEND;TZID=America/New_York:20250314T113000
DTSTAMP:20260419T133636
CREATED:20250103T184449Z
LAST-MODIFIED:20250103T184449Z
UID:10000335-1741948200-1741951800@kplpa.org
SUMMARY:Pre-School Story and Craft Hour
DESCRIPTION:
URL:https://kplpa.org/event/pre-school-story-and-craft-hour-4/2025-03-14/
LOCATION:PA
END:VEVENT
END:VCALENDAR