BEGIN:VCALENDAR
VERSION:2.0
PRODID:-//Konkle Memorial Library - ECPv6.8.3//NONSGML v1.0//EN
CALSCALE:GREGORIAN
METHOD:PUBLISH
X-WR-CALNAME:Konkle Memorial Library
X-ORIGINAL-URL:https://kplpa.org
X-WR-CALDESC:Events for Konkle Memorial Library
REFRESH-INTERVAL;VALUE=DURATION:PT1H
X-Robots-Tag:noindex
X-PUBLISHED-TTL:PT1H
BEGIN:VTIMEZONE
TZID:America/New_York
BEGIN:DAYLIGHT
TZOFFSETFROM:-0500
TZOFFSETTO:-0400
TZNAME:EDT
DTSTART:20250309T070000
END:DAYLIGHT
BEGIN:STANDARD
TZOFFSETFROM:-0400
TZOFFSETTO:-0500
TZNAME:EST
DTSTART:20251102T060000
END:STANDARD
END:VTIMEZONE
BEGIN:VEVENT
DTSTART;TZID=America/New_York:20250204T103000
DTEND;TZID=America/New_York:20250204T113000
DTSTAMP:20260419T151953
CREATED:20250103T185017Z
LAST-MODIFIED:20250103T185017Z
UID:10000338-1738665000-1738668600@kplpa.org
SUMMARY:Toddler Time
DESCRIPTION:
URL:https://kplpa.org/event/toddler-time-5/2025-02-04/
LOCATION:PA
END:VEVENT
BEGIN:VEVENT
DTSTART;TZID=America/New_York:20250205T103000
DTEND;TZID=America/New_York:20250205T113000
DTSTAMP:20260419T151953
CREATED:20250103T185058Z
LAST-MODIFIED:20250103T185058Z
UID:10000354-1738751400-1738755000@kplpa.org
SUMMARY:Toddler Time
DESCRIPTION:
URL:https://kplpa.org/event/toddler-time-6/2025-02-05/
LOCATION:PA
END:VEVENT
BEGIN:VEVENT
DTSTART;TZID=America/New_York:20250206T103000
DTEND;TZID=America/New_York:20250206T113000
DTSTAMP:20260419T151953
CREATED:20250103T184226Z
LAST-MODIFIED:20250103T184328Z
UID:10000322-1738837800-1738841400@kplpa.org
SUMMARY:Pre-School Story and Craft Hour
DESCRIPTION:
URL:https://kplpa.org/event/pre-school-story-and-craft-hour-3/2025-02-06/
LOCATION:PA
END:VEVENT
BEGIN:VEVENT
DTSTART;TZID=America/New_York:20250207T103000
DTEND;TZID=America/New_York:20250207T113000
DTSTAMP:20260419T151953
CREATED:20250103T184449Z
LAST-MODIFIED:20250103T184449Z
UID:10000330-1738924200-1738927800@kplpa.org
SUMMARY:Pre-School Story and Craft Hour
DESCRIPTION:
URL:https://kplpa.org/event/pre-school-story-and-craft-hour-4/2025-02-07/
LOCATION:PA
END:VEVENT
BEGIN:VEVENT
DTSTART;TZID=America/New_York:20250208T090000
DTEND;TZID=America/New_York:20250208T160000
DTSTAMP:20260419T151953
CREATED:20250117T192237Z
LAST-MODIFIED:20250117T192237Z
UID:10000360-1739005200-1739030400@kplpa.org
SUMMARY:Book Sale
DESCRIPTION:
URL:https://kplpa.org/event/book-sale-3/
LOCATION:PA
END:VEVENT
BEGIN:VEVENT
DTSTART;TZID=America/New_York:20250211T103000
DTEND;TZID=America/New_York:20250211T113000
DTSTAMP:20260419T151953
CREATED:20250103T185017Z
LAST-MODIFIED:20250103T185017Z
UID:10000339-1739269800-1739273400@kplpa.org
SUMMARY:Toddler Time
DESCRIPTION:
URL:https://kplpa.org/event/toddler-time-5/2025-02-11/
LOCATION:PA
END:VEVENT
BEGIN:VEVENT
DTSTART;TZID=America/New_York:20250212T103000
DTEND;TZID=America/New_York:20250212T113000
DTSTAMP:20260419T151953
CREATED:20250103T185058Z
LAST-MODIFIED:20250103T185058Z
UID:10000355-1739356200-1739359800@kplpa.org
SUMMARY:Toddler Time
DESCRIPTION:
URL:https://kplpa.org/event/toddler-time-6/2025-02-12/
LOCATION:PA
END:VEVENT
BEGIN:VEVENT
DTSTART;TZID=America/New_York:20250213T103000
DTEND;TZID=America/New_York:20250213T113000
DTSTAMP:20260419T151953
CREATED:20250103T184226Z
LAST-MODIFIED:20250103T184328Z
UID:10000323-1739442600-1739446200@kplpa.org
SUMMARY:Pre-School Story and Craft Hour
DESCRIPTION:
URL:https://kplpa.org/event/pre-school-story-and-craft-hour-3/2025-02-13/
LOCATION:PA
END:VEVENT
BEGIN:VEVENT
DTSTART;TZID=America/New_York:20250213T140000
DTEND;TZID=America/New_York:20250213T150000
DTSTAMP:20260419T151953
CREATED:20250204T131958Z
LAST-MODIFIED:20250207T184252Z
UID:10000362-1739455200-1739458800@kplpa.org
SUMMARY:Valentine Card Making Workshop
DESCRIPTION:
URL:https://kplpa.org/event/valentine-card-making-workshop/
LOCATION:PA
END:VEVENT
BEGIN:VEVENT
DTSTART;TZID=America/New_York:20250214T103000
DTEND;TZID=America/New_York:20250214T113000
DTSTAMP:20260419T151953
CREATED:20250103T184449Z
LAST-MODIFIED:20250103T184449Z
UID:10000331-1739529000-1739532600@kplpa.org
SUMMARY:Pre-School Story and Craft Hour
DESCRIPTION:
URL:https://kplpa.org/event/pre-school-story-and-craft-hour-4/2025-02-14/
LOCATION:PA
END:VEVENT
BEGIN:VEVENT
DTSTART;TZID=America/New_York:20250218T103000
DTEND;TZID=America/New_York:20250218T113000
DTSTAMP:20260419T151953
CREATED:20250103T185017Z
LAST-MODIFIED:20250103T185017Z
UID:10000340-1739874600-1739878200@kplpa.org
SUMMARY:Toddler Time
DESCRIPTION:
URL:https://kplpa.org/event/toddler-time-5/2025-02-18/
LOCATION:PA
END:VEVENT
BEGIN:VEVENT
DTSTART;TZID=America/New_York:20250219T103000
DTEND;TZID=America/New_York:20250219T113000
DTSTAMP:20260419T151953
CREATED:20250103T185058Z
LAST-MODIFIED:20250103T185058Z
UID:10000356-1739961000-1739964600@kplpa.org
SUMMARY:Toddler Time
DESCRIPTION:
URL:https://kplpa.org/event/toddler-time-6/2025-02-19/
LOCATION:PA
END:VEVENT
BEGIN:VEVENT
DTSTART;TZID=America/New_York:20250220T103000
DTEND;TZID=America/New_York:20250220T113000
DTSTAMP:20260419T151953
CREATED:20250103T184226Z
LAST-MODIFIED:20250103T184328Z
UID:10000324-1740047400-1740051000@kplpa.org
SUMMARY:Pre-School Story and Craft Hour
DESCRIPTION:
URL:https://kplpa.org/event/pre-school-story-and-craft-hour-3/2025-02-20/
LOCATION:PA
END:VEVENT
BEGIN:VEVENT
DTSTART;TZID=America/New_York:20250221T103000
DTEND;TZID=America/New_York:20250221T113000
DTSTAMP:20260419T151953
CREATED:20250103T184449Z
LAST-MODIFIED:20250103T184449Z
UID:10000332-1740133800-1740137400@kplpa.org
SUMMARY:Pre-School Story and Craft Hour
DESCRIPTION:
URL:https://kplpa.org/event/pre-school-story-and-craft-hour-4/2025-02-21/
LOCATION:PA
END:VEVENT
BEGIN:VEVENT
DTSTART;TZID=America/New_York:20250225T103000
DTEND;TZID=America/New_York:20250225T113000
DTSTAMP:20260419T151953
CREATED:20250103T185017Z
LAST-MODIFIED:20250103T185017Z
UID:10000341-1740479400-1740483000@kplpa.org
SUMMARY:Toddler Time
DESCRIPTION:
URL:https://kplpa.org/event/toddler-time-5/2025-02-25/
LOCATION:PA
END:VEVENT
BEGIN:VEVENT
DTSTART;TZID=America/New_York:20250225T160000
DTEND;TZID=America/New_York:20250225T170000
DTSTAMP:20260419T151953
CREATED:20250207T183859Z
LAST-MODIFIED:20250207T183859Z
UID:10000363-1740499200-1740502800@kplpa.org
SUMMARY:Building Buddies
DESCRIPTION:
URL:https://kplpa.org/event/building-buddies-2/
LOCATION:PA
END:VEVENT
BEGIN:VEVENT
DTSTART;TZID=America/New_York:20250226T103000
DTEND;TZID=America/New_York:20250226T113000
DTSTAMP:20260419T151953
CREATED:20250103T185058Z
LAST-MODIFIED:20250103T185058Z
UID:10000357-1740565800-1740569400@kplpa.org
SUMMARY:Toddler Time
DESCRIPTION:
URL:https://kplpa.org/event/toddler-time-6/2025-02-26/
LOCATION:PA
END:VEVENT
BEGIN:VEVENT
DTSTART;TZID=America/New_York:20250227T103000
DTEND;TZID=America/New_York:20250227T113000
DTSTAMP:20260419T151953
CREATED:20250103T184226Z
LAST-MODIFIED:20250103T184328Z
UID:10000325-1740652200-1740655800@kplpa.org
SUMMARY:Pre-School Story and Craft Hour
DESCRIPTION:
URL:https://kplpa.org/event/pre-school-story-and-craft-hour-3/2025-02-27/
LOCATION:PA
END:VEVENT
BEGIN:VEVENT
DTSTART;TZID=America/New_York:20250228T103000
DTEND;TZID=America/New_York:20250228T113000
DTSTAMP:20260419T151953
CREATED:20250103T184449Z
LAST-MODIFIED:20250103T184449Z
UID:10000333-1740738600-1740742200@kplpa.org
SUMMARY:Pre-School Story and Craft Hour
DESCRIPTION:
URL:https://kplpa.org/event/pre-school-story-and-craft-hour-4/2025-02-28/
LOCATION:PA
END:VEVENT
END:VCALENDAR