BEGIN:VCALENDAR
VERSION:2.0
PRODID:-//Konkle Memorial Library - ECPv6.8.3//NONSGML v1.0//EN
CALSCALE:GREGORIAN
METHOD:PUBLISH
X-ORIGINAL-URL:https://kplpa.org
X-WR-CALDESC:Events for Konkle Memorial Library
REFRESH-INTERVAL;VALUE=DURATION:PT1H
X-Robots-Tag:noindex
X-PUBLISHED-TTL:PT1H
BEGIN:VTIMEZONE
TZID:America/New_York
BEGIN:DAYLIGHT
TZOFFSETFROM:-0500
TZOFFSETTO:-0400
TZNAME:EDT
DTSTART:20250309T070000
END:DAYLIGHT
BEGIN:STANDARD
TZOFFSETFROM:-0400
TZOFFSETTO:-0500
TZNAME:EST
DTSTART:20251102T060000
END:STANDARD
END:VTIMEZONE
BEGIN:VEVENT
DTSTART;TZID=America/New_York:20250121T103000
DTEND;TZID=America/New_York:20250121T113000
DTSTAMP:20260419T183932
CREATED:20250103T185017Z
LAST-MODIFIED:20250103T185017Z
UID:10000336-1737455400-1737459000@kplpa.org
SUMMARY:Toddler Time
DESCRIPTION:
URL:https://kplpa.org/event/toddler-time-5/2025-01-21/
LOCATION:PA
END:VEVENT
BEGIN:VEVENT
DTSTART;TZID=America/New_York:20250122T103000
DTEND;TZID=America/New_York:20250122T113000
DTSTAMP:20260419T183932
CREATED:20250103T185058Z
LAST-MODIFIED:20250103T185058Z
UID:10000352-1737541800-1737545400@kplpa.org
SUMMARY:Toddler Time
DESCRIPTION:
URL:https://kplpa.org/event/toddler-time-6/2025-01-22/
LOCATION:PA
END:VEVENT
BEGIN:VEVENT
DTSTART;TZID=America/New_York:20250123T103000
DTEND;TZID=America/New_York:20250123T113000
DTSTAMP:20260419T183932
CREATED:20250103T184226Z
LAST-MODIFIED:20250103T184328Z
UID:10000320-1737628200-1737631800@kplpa.org
SUMMARY:Pre-School Story and Craft Hour
DESCRIPTION:
URL:https://kplpa.org/event/pre-school-story-and-craft-hour-3/2025-01-23/
LOCATION:PA
END:VEVENT
BEGIN:VEVENT
DTSTART;TZID=America/New_York:20250124T103000
DTEND;TZID=America/New_York:20250124T113000
DTSTAMP:20260419T183932
CREATED:20250103T184449Z
LAST-MODIFIED:20250103T184449Z
UID:10000328-1737714600-1737718200@kplpa.org
SUMMARY:Pre-School Story and Craft Hour
DESCRIPTION:
URL:https://kplpa.org/event/pre-school-story-and-craft-hour-4/2025-01-24/
LOCATION:PA
END:VEVENT
BEGIN:VEVENT
DTSTART;TZID=America/New_York:20250128T103000
DTEND;TZID=America/New_York:20250128T113000
DTSTAMP:20260419T183932
CREATED:20250103T185017Z
LAST-MODIFIED:20250103T185017Z
UID:10000337-1738060200-1738063800@kplpa.org
SUMMARY:Toddler Time
DESCRIPTION:
URL:https://kplpa.org/event/toddler-time-5/2025-01-28/
LOCATION:PA
END:VEVENT
BEGIN:VEVENT
DTSTART;TZID=America/New_York:20250129T103000
DTEND;TZID=America/New_York:20250129T113000
DTSTAMP:20260419T183932
CREATED:20250103T185058Z
LAST-MODIFIED:20250103T185058Z
UID:10000353-1738146600-1738150200@kplpa.org
SUMMARY:Toddler Time
DESCRIPTION:
URL:https://kplpa.org/event/toddler-time-6/2025-01-29/
LOCATION:PA
END:VEVENT
BEGIN:VEVENT
DTSTART;TZID=America/New_York:20250130T103000
DTEND;TZID=America/New_York:20250130T113000
DTSTAMP:20260419T183932
CREATED:20250103T184226Z
LAST-MODIFIED:20250103T184328Z
UID:10000321-1738233000-1738236600@kplpa.org
SUMMARY:Pre-School Story and Craft Hour
DESCRIPTION:
URL:https://kplpa.org/event/pre-school-story-and-craft-hour-3/2025-01-30/
LOCATION:PA
END:VEVENT
BEGIN:VEVENT
DTSTART;TZID=America/New_York:20250131T103000
DTEND;TZID=America/New_York:20250131T113000
DTSTAMP:20260419T183932
CREATED:20250103T184449Z
LAST-MODIFIED:20250103T184449Z
UID:10000329-1738319400-1738323000@kplpa.org
SUMMARY:Pre-School Story and Craft Hour
DESCRIPTION:
URL:https://kplpa.org/event/pre-school-story-and-craft-hour-4/2025-01-31/
LOCATION:PA
END:VEVENT
END:VCALENDAR