BEGIN:VCALENDAR
VERSION:2.0
PRODID:-//Konkle Memorial Library - ECPv6.8.3//NONSGML v1.0//EN
CALSCALE:GREGORIAN
METHOD:PUBLISH
X-WR-CALNAME:Konkle Memorial Library
X-ORIGINAL-URL:https://kplpa.org
X-WR-CALDESC:Events for Konkle Memorial Library
REFRESH-INTERVAL;VALUE=DURATION:PT1H
X-Robots-Tag:noindex
X-PUBLISHED-TTL:PT1H
BEGIN:VTIMEZONE
TZID:America/New_York
BEGIN:DAYLIGHT
TZOFFSETFROM:-0500
TZOFFSETTO:-0400
TZNAME:EDT
DTSTART:20260308T070000
END:DAYLIGHT
BEGIN:STANDARD
TZOFFSETFROM:-0400
TZOFFSETTO:-0500
TZNAME:EST
DTSTART:20261101T060000
END:STANDARD
END:VTIMEZONE
BEGIN:VEVENT
DTSTART;TZID=America/New_York:20260421T103000
DTEND;TZID=America/New_York:20260421T113000
DTSTAMP:20260421T063324
CREATED:20260228T172552Z
LAST-MODIFIED:20260228T172717Z
UID:10002456-1776767400-1776771000@kplpa.org
SUMMARY:Spring Toddler Time
DESCRIPTION:🐤 Little Readers Toddler Time! Sign-ups start for next round of Toddler Time on March 2\, 2026\, for either Tuesday or Wednesday class. \nIt’s more than just stories—it’s a chance for your child to build early literacy skills through singing\, playing\, and making new friends. Plus\, it’s a great way for you to connect with other local parents while the kiddos get their wiggles out! Call 570-368-1840 to register your child.
URL:https://kplpa.org/event/spring-toddler-time/2026-04-21/
LOCATION:Konkle Memorial Library\, 384 Broad Street\, Montoursville\, PA\, 17754\, United States
END:VEVENT
BEGIN:VEVENT
DTSTART;TZID=America/New_York:20260422T080000
DTEND;TZID=America/New_York:20260422T170000
DTSTAMP:20260421T063324
CREATED:20260228T173003Z
LAST-MODIFIED:20260228T173003Z
UID:10002464-1776844800-1776877200@kplpa.org
SUMMARY:Spring Toddler Time
DESCRIPTION:🐤 Little Readers Toddler Time! Sign-ups start for next round of Toddler Time on March 2\, 2026\, for either Tuesday or Wednesday class. \nIt’s more than just stories—it’s a chance for your child to build early literacy skills through singing\, playing\, and making new friends. Plus\, it’s a great way for you to connect with other local parents while the kiddos get their wiggles out! Call 570-368-1840 to register your child.
URL:https://kplpa.org/event/spring-toddler-time-2/2026-04-22/
LOCATION:PA
END:VEVENT
BEGIN:VEVENT
DTSTART;TZID=America/New_York:20260423T103000
DTEND;TZID=America/New_York:20260423T113000
DTSTAMP:20260421T063324
CREATED:20260228T173729Z
LAST-MODIFIED:20260228T173729Z
UID:10002472-1776940200-1776943800@kplpa.org
SUMMARY:Spring Pre-School & Craft Hour
DESCRIPTION:📚✨ Spark Your Little One’s Imagination! Join us for a morning of stories\, songs\, and creativity at Konkle Library. Sign-ups start March 2\, 2026\, for the next round of Thursday and Friday’s classes. Child must be 3-6 years of age. Please call the library to register your child at 570-368-1840.
URL:https://kplpa.org/event/spring-pre-school-craft-hour/2026-04-23/
LOCATION:Konkle Memorial Library\, 384 Broad Street\, Montoursville\, PA\, 17754\, United States
END:VEVENT
BEGIN:VEVENT
DTSTART;TZID=America/New_York:20260423T170000
DTEND;TZID=America/New_York:20260423T180000
DTSTAMP:20260421T063324
CREATED:20260328T181044Z
LAST-MODIFIED:20260328T181044Z
UID:10002864-1776963600-1776967200@kplpa.org
SUMMARY:Sharpie Watercolors for Teens
DESCRIPTION:Using sharpies as your medium\, create a one-of-a-kind art piece like no other. Age group is 13-17 and registration is required by calling 570-368-1840.
URL:https://kplpa.org/event/sharpie-watercolors-for-teens/
LOCATION:Konkle Memorial Library\, 384 Broad Street\, Montoursville\, PA\, 17754\, United States
END:VEVENT
BEGIN:VEVENT
DTSTART;TZID=America/New_York:20260424T103000
DTEND;TZID=America/New_York:20260424T113000
DTSTAMP:20260421T063324
CREATED:20260228T174107Z
LAST-MODIFIED:20260228T174107Z
UID:10002480-1777026600-1777030200@kplpa.org
SUMMARY:Spring Pre-School Story & Craft Hour
DESCRIPTION:📚✨ Spark Your Little One’s Imagination! Join us for a morning of stories\, songs\, and creativity at Konkle Library. Sign-ups start March 2\, 2026\, for the next round of Thursday and Friday’s classes. Child must be 3-6 years of age. Please call the library to register your child at 570-368-1840.
URL:https://kplpa.org/event/spring-pre-school-story-craft-hour/2026-04-24/
LOCATION:Konkle Memorial Library\, 384 Broad Street\, Montoursville\, PA\, 17754\, United States
END:VEVENT
BEGIN:VEVENT
DTSTART;TZID=America/New_York:20260424T113000
DTEND;TZID=America/New_York:20260424T123000
DTSTAMP:20260421T063324
CREATED:20260328T181322Z
LAST-MODIFIED:20260328T181322Z
UID:10002865-1777030200-1777033800@kplpa.org
SUMMARY:Kid's "You Choose" Hour
DESCRIPTION:Bring some friends and hang out for an hour doing and creating whatever we have on hand. Ages are 6-17 years of age.
URL:https://kplpa.org/event/kids-you-choose-hour-2/
LOCATION:Konkle Memorial Library\, 384 Broad Street\, Montoursville\, PA\, 17754\, United States
END:VEVENT
BEGIN:VEVENT
DTSTART;TZID=America/New_York:20260428T103000
DTEND;TZID=America/New_York:20260428T113000
DTSTAMP:20260421T063324
CREATED:20260228T172552Z
LAST-MODIFIED:20260228T172717Z
UID:10002457-1777372200-1777375800@kplpa.org
SUMMARY:Spring Toddler Time
DESCRIPTION:🐤 Little Readers Toddler Time! Sign-ups start for next round of Toddler Time on March 2\, 2026\, for either Tuesday or Wednesday class. \nIt’s more than just stories—it’s a chance for your child to build early literacy skills through singing\, playing\, and making new friends. Plus\, it’s a great way for you to connect with other local parents while the kiddos get their wiggles out! Call 570-368-1840 to register your child.
URL:https://kplpa.org/event/spring-toddler-time/2026-04-28/
LOCATION:Konkle Memorial Library\, 384 Broad Street\, Montoursville\, PA\, 17754\, United States
END:VEVENT
BEGIN:VEVENT
DTSTART;TZID=America/New_York:20260428T123000
DTEND;TZID=America/New_York:20260428T133000
DTSTAMP:20260421T063324
CREATED:20260128T181012Z
LAST-MODIFIED:20260128T182719Z
UID:10001712-1777379400-1777383000@kplpa.org
SUMMARY:Adult Game Hour
DESCRIPTION:Please note Adult Game Hour is moving to Tuesdays in February. Forget scrolling your phone. It’s time for Adult Game Hour at Konkle Library. Bring some friends along for some friendly competition. We provide the games or bring one of your favorites along.
URL:https://kplpa.org/event/adult-game-hour-2/2026-04-28/
LOCATION:PA
END:VEVENT
BEGIN:VEVENT
DTSTART;TZID=America/New_York:20260428T170000
DTEND;TZID=America/New_York:20260428T180000
DTSTAMP:20260421T063324
CREATED:20260328T181711Z
LAST-MODIFIED:20260328T181711Z
UID:10002866-1777395600-1777399200@kplpa.org
SUMMARY:April Adult Book Club
DESCRIPTION:The title of the April Adult Book Club is “Twice” by Mitch Albom.
URL:https://kplpa.org/event/april-adult-book-club/
LOCATION:Konkle Memorial Library\, 384 Broad Street\, Montoursville\, PA\, 17754\, United States
END:VEVENT
BEGIN:VEVENT
DTSTART;TZID=America/New_York:20260429T080000
DTEND;TZID=America/New_York:20260429T170000
DTSTAMP:20260421T063324
CREATED:20260228T173003Z
LAST-MODIFIED:20260228T173003Z
UID:10002465-1777449600-1777482000@kplpa.org
SUMMARY:Spring Toddler Time
DESCRIPTION:🐤 Little Readers Toddler Time! Sign-ups start for next round of Toddler Time on March 2\, 2026\, for either Tuesday or Wednesday class. \nIt’s more than just stories—it’s a chance for your child to build early literacy skills through singing\, playing\, and making new friends. Plus\, it’s a great way for you to connect with other local parents while the kiddos get their wiggles out! Call 570-368-1840 to register your child.
URL:https://kplpa.org/event/spring-toddler-time-2/2026-04-29/
LOCATION:PA
END:VEVENT
BEGIN:VEVENT
DTSTART;TZID=America/New_York:20260430T103000
DTEND;TZID=America/New_York:20260430T113000
DTSTAMP:20260421T063324
CREATED:20260228T173729Z
LAST-MODIFIED:20260228T173729Z
UID:10002473-1777545000-1777548600@kplpa.org
SUMMARY:Spring Pre-School & Craft Hour
DESCRIPTION:📚✨ Spark Your Little One’s Imagination! Join us for a morning of stories\, songs\, and creativity at Konkle Library. Sign-ups start March 2\, 2026\, for the next round of Thursday and Friday’s classes. Child must be 3-6 years of age. Please call the library to register your child at 570-368-1840.
URL:https://kplpa.org/event/spring-pre-school-craft-hour/2026-04-30/
LOCATION:Konkle Memorial Library\, 384 Broad Street\, Montoursville\, PA\, 17754\, United States
END:VEVENT
END:VCALENDAR