BEGIN:VCALENDAR
VERSION:2.0
PRODID:-//Konkle Memorial Library - ECPv6.8.3//NONSGML v1.0//EN
CALSCALE:GREGORIAN
METHOD:PUBLISH
X-ORIGINAL-URL:https://kplpa.org
X-WR-CALDESC:Events for Konkle Memorial Library
REFRESH-INTERVAL;VALUE=DURATION:PT1H
X-Robots-Tag:noindex
X-PUBLISHED-TTL:PT1H
BEGIN:VTIMEZONE
TZID:America/New_York
BEGIN:DAYLIGHT
TZOFFSETFROM:-0500
TZOFFSETTO:-0400
TZNAME:EDT
DTSTART:20260308T070000
END:DAYLIGHT
BEGIN:STANDARD
TZOFFSETFROM:-0400
TZOFFSETTO:-0500
TZNAME:EST
DTSTART:20261101T060000
END:STANDARD
END:VTIMEZONE
BEGIN:VEVENT
DTSTART;TZID=America/New_York:20260224T103000
DTEND;TZID=America/New_York:20260224T113000
DTSTAMP:20260422T134628
CREATED:20260102T201423Z
LAST-MODIFIED:20260102T202902Z
UID:10001402-1771929000-1771932600@kplpa.org
SUMMARY:Toddler Time
DESCRIPTION:Our next Toddler Time will start Tuesday\, January 20th OR Wednesday\, January 21\, 2026. The program starts at 10:30 am. The age group is 1 1/2 to 3 years old. Please call the library at 570-368-1840 to register your child today.
URL:https://kplpa.org/event/toddler-time-7/2026-02-24/
LOCATION:PA
END:VEVENT
BEGIN:VEVENT
DTSTART;TZID=America/New_York:20260224T170000
DTEND;TZID=America/New_York:20260224T180000
DTSTAMP:20260422T134628
CREATED:20260130T204844Z
LAST-MODIFIED:20260130T204844Z
UID:10002104-1771952400-1771956000@kplpa.org
SUMMARY:February Fantasy & Fluff Adult Book Club
DESCRIPTION:📚 Join Our Adult Book Club! 📚 \n\nLooking for great reads\, lively conversation\, and a welcoming community? Our Adult Book Club is the perfect place to connect with fellow book lovers and share your thoughts over a good story. \n This Month’s Pick: Peach Tea Smash by Laura Childs \n\nWhether you’ve read the whole book or just a few chapters\, you’re welcome to join in! We keep it friendly\, fun\, and full of fresh perspectives. Call today at 570-368-1840 to register.
URL:https://kplpa.org/event/february-fantasy-fluff-adult-book-club/
LOCATION:PA
END:VEVENT
END:VCALENDAR