BEGIN:VCALENDAR
VERSION:2.0
PRODID:-//Konkle Memorial Library - ECPv6.8.3//NONSGML v1.0//EN
CALSCALE:GREGORIAN
METHOD:PUBLISH
X-WR-CALNAME:Konkle Memorial Library
X-ORIGINAL-URL:https://kplpa.org
X-WR-CALDESC:Events for Konkle Memorial Library
REFRESH-INTERVAL;VALUE=DURATION:PT1H
X-Robots-Tag:noindex
X-PUBLISHED-TTL:PT1H
BEGIN:VTIMEZONE
TZID:America/New_York
BEGIN:DAYLIGHT
TZOFFSETFROM:-0500
TZOFFSETTO:-0400
TZNAME:EDT
DTSTART:20260308T070000
END:DAYLIGHT
BEGIN:STANDARD
TZOFFSETFROM:-0400
TZOFFSETTO:-0500
TZNAME:EST
DTSTART:20261101T060000
END:STANDARD
END:VTIMEZONE
BEGIN:VEVENT
DTSTART;TZID=America/New_York:20260210T103000
DTEND;TZID=America/New_York:20260210T113000
DTSTAMP:20260422T154908
CREATED:20260102T201423Z
LAST-MODIFIED:20260102T202902Z
UID:10001400-1770719400-1770723000@kplpa.org
SUMMARY:Toddler Time
DESCRIPTION:Our next Toddler Time will start Tuesday\, January 20th OR Wednesday\, January 21\, 2026. The program starts at 10:30 am. The age group is 1 1/2 to 3 years old. Please call the library at 570-368-1840 to register your child today.
URL:https://kplpa.org/event/toddler-time-7/2026-02-10/
LOCATION:PA
END:VEVENT
END:VCALENDAR