BEGIN:VCALENDAR
VERSION:2.0
PRODID:-//Konkle Memorial Library - ECPv6.8.3//NONSGML v1.0//EN
CALSCALE:GREGORIAN
METHOD:PUBLISH
X-WR-CALNAME:Konkle Memorial Library
X-ORIGINAL-URL:https://kplpa.org
X-WR-CALDESC:Events for Konkle Memorial Library
REFRESH-INTERVAL;VALUE=DURATION:PT1H
X-Robots-Tag:noindex
X-PUBLISHED-TTL:PT1H
BEGIN:VTIMEZONE
TZID:America/New_York
BEGIN:DAYLIGHT
TZOFFSETFROM:-0500
TZOFFSETTO:-0400
TZNAME:EDT
DTSTART:20260308T070000
END:DAYLIGHT
BEGIN:STANDARD
TZOFFSETFROM:-0400
TZOFFSETTO:-0500
TZNAME:EST
DTSTART:20261101T060000
END:STANDARD
END:VTIMEZONE
BEGIN:VEVENT
DTSTART;TZID=America/New_York:20260123T103000
DTEND;TZID=America/New_York:20260123T113000
DTSTAMP:20260422T191853
CREATED:20260102T204416Z
LAST-MODIFIED:20260102T204416Z
UID:10001670-1769164200-1769167800@kplpa.org
SUMMARY:Pre-School Story and Craft Hour
DESCRIPTION:The next Pre-School Story & Craft Hour is either Thursday’s\, January 22 OR Friday’s January 23\, 2026. The time is 10:30 am. Ages are 3 to 6 years old. To register please call 570-368-1840.
URL:https://kplpa.org/event/pre-school-story-and-craft-hour-6/2026-01-23/
LOCATION:PA
END:VEVENT
BEGIN:VEVENT
DTSTART;TZID=America/New_York:20260123T113000
DTEND;TZID=America/New_York:20260123T123000
DTSTAMP:20260422T191853
CREATED:20260102T193657Z
LAST-MODIFIED:20260102T193657Z
UID:10001395-1769167800-1769171400@kplpa.org
SUMMARY:Teen Game Hour
DESCRIPTION:Teens ages 13-17 are invited to Teen Game Hour on January 22nd from 5:00pm to 6:00 pm
URL:https://kplpa.org/event/teen-game-hour/2026-01-23/
LOCATION:PA
END:VEVENT
END:VCALENDAR